BEGIN:VCALENDAR
VERSION:2.0
PRODID:spatie/icalendar-generator
NAME:Get started with Power BI
X-WR-CALNAME:Get started with Power BI
BEGIN:VTIMEZONE
TZID:America/Chicago
BEGIN:STANDARD
DTSTART:20251102T010000
TZOFFSETFROM:-0500
TZOFFSETTO:-0600
END:STANDARD
BEGIN:DAYLIGHT
DTSTART:20260308T010000
TZOFFSETFROM:-0600
TZOFFSETTO:-0500
END:DAYLIGHT
END:VTIMEZONE
BEGIN:VTIMEZONE
TZID:UTC
BEGIN:STANDARD
DTSTART:20250726T190115
TZOFFSETFROM:+0000
TZOFFSETTO:+0000
END:STANDARD
END:VTIMEZONE
BEGIN:VEVENT
UID:69e91afb38c00
DTSTAMP:20260422T190115Z
SUMMARY:Get started with Power BI
URL:https://arcpa.org/catalog/events/90188-get-started-with-power-bi-2026-0
 2-02
DTSTART;TZID=America/Chicago:20260202T093000
DTEND;TZID=America/Chicago:20260202T113000
END:VEVENT
END:VCALENDAR