BEGIN:VCALENDAR
VERSION:2.0
PRODID:spatie/icalendar-generator
NAME:Beyond the Numbers: Success Strategies for Female CPAs
X-WR-CALNAME:Beyond the Numbers: Success Strategies for Female CPAs
BEGIN:VTIMEZONE
TZID:America/Chicago
BEGIN:STANDARD
DTSTART:20251102T010000
TZOFFSETFROM:-0500
TZOFFSETTO:-0600
END:STANDARD
BEGIN:DAYLIGHT
DTSTART:20260308T010000
TZOFFSETFROM:-0600
TZOFFSETTO:-0500
END:DAYLIGHT
END:VTIMEZONE
BEGIN:VTIMEZONE
TZID:UTC
BEGIN:STANDARD
DTSTART:20250726T190448
TZOFFSETFROM:+0000
TZOFFSETTO:+0000
END:STANDARD
END:VTIMEZONE
BEGIN:VEVENT
UID:69e91bd0aecae
DTSTAMP:20260422T190448Z
SUMMARY:Beyond the Numbers: Success Strategies for Female CPAs
URL:https://arcpa.org/catalog/events/89018-beyond-the-numbers-success-strat
 egies-for-female-cpas-2026-29-01
DTSTART;TZID=America/Chicago:20260129T080000
DTEND;TZID=America/Chicago:20260129T100000
END:VEVENT
END:VCALENDAR